BEGIN:VCALENDAR
VERSION:2.0
PRODID:-//35.213.150.62//NONSGML kigkonsult.se iCalcreator 2.20//
CALSCALE:GREGORIAN
METHOD:PUBLISH
X-WR-CALNAME:Hurlingham Preschool - 1 Palmer Avenue Brighton East
X-WR-CALDESC:Brighton Bayside Kinder Preschool
X-FROM-URL:http://hurlinghampreschool.org.au
X-WR-TIMEZONE:Australia/Melbourne
BEGIN:VTIMEZONE
TZID:Australia/Melbourne
X-LIC-LOCATION:Australia/Melbourne
BEGIN:STANDARD
DTSTART:20210404T030000
TZOFFSETFROM:+1100
TZOFFSETTO:+1000
TZNAME:AEST
END:STANDARD
BEGIN:DAYLIGHT
DTSTART:20201004T020000
TZOFFSETFROM:+1000
TZOFFSETTO:+1100
TZNAME:AEDT
END:DAYLIGHT
END:VTIMEZONE
BEGIN:VEVENT
UID:ai1ec-2351@hurlinghampreschool.org.au
DTSTAMP:20210301T205914Z
CATEGORIES:
CONTACT:Sam Jensen-Muir\; 0426 206 202\; enrolments@hurlinghampreschool.org
 .au
DESCRIPTION:
DTSTART;TZID=Australia/Melbourne:20210320T100000
DTEND;TZID=Australia/Melbourne:20210320T120000
SEQUENCE:0
SUMMARY:Open Day for 2022 Enrolments
URL:http://hurlinghampreschool.org.au/event/open-day-for-2022-enrolments-2/
X-COST-TYPE:free
END:VEVENT
END:VCALENDAR
